BEGIN:VCALENDAR
VERSION:2.0
PRODID:-//Nilsiän Louhosareena - ECPv6.15.16//NONSGML v1.0//EN
CALSCALE:GREGORIAN
METHOD:PUBLISH
X-ORIGINAL-URL:https://www.louhosareena.fi
X-WR-CALDESC:Tapahtumat Nilsiän Louhosareena
REFRESH-INTERVAL;VALUE=DURATION:PT1H
X-Robots-Tag:noindex
X-PUBLISHED-TTL:PT1H
BEGIN:VTIMEZONE
TZID:Europe/Helsinki
BEGIN:DAYLIGHT
TZOFFSETFROM:+0200
TZOFFSETTO:+0300
TZNAME:EEST
DTSTART:20210328T010000
END:DAYLIGHT
BEGIN:STANDARD
TZOFFSETFROM:+0300
TZOFFSETTO:+0200
TZNAME:EET
DTSTART:20211031T010000
END:STANDARD
BEGIN:DAYLIGHT
TZOFFSETFROM:+0200
TZOFFSETTO:+0300
TZNAME:EEST
DTSTART:20220327T010000
END:DAYLIGHT
BEGIN:STANDARD
TZOFFSETFROM:+0300
TZOFFSETTO:+0200
TZNAME:EET
DTSTART:20221030T010000
END:STANDARD
BEGIN:DAYLIGHT
TZOFFSETFROM:+0200
TZOFFSETTO:+0300
TZNAME:EEST
DTSTART:20230326T010000
END:DAYLIGHT
BEGIN:STANDARD
TZOFFSETFROM:+0300
TZOFFSETTO:+0200
TZNAME:EET
DTSTART:20231029T010000
END:STANDARD
END:VTIMEZONE
BEGIN:VEVENT
DTSTART;TZID=Europe/Helsinki:20220710T160000
DTEND;TZID=Europe/Helsinki:20220710T180000
DTSTAMP:20260421T035024
CREATED:20220614T190506Z
LAST-MODIFIED:20220705T154321Z
UID:936-1657468800-1657476000@www.louhosareena.fi
SUMMARY:PERUTTU!!!!!          IHMISIÄ SUVIYÖSSÄ - JARI SILLANPÄÄ
DESCRIPTION:Jari Sillanpää saapuu tunnelmoimaan Louhosareenalle intiimillä Ihmisiä suviyössä -konsertilla. Mukanaan hänellä on kolmihenkinen bändi: Eetu Sadeharju – piano\, Mikko Laakso -kitara ja Eveliina Uitto – haitari. \nKonsertin kesto on n. 2 tuntia väliaikoineen. \nLiput ovelta 45 euroa tai etukäteen lippu.fi:stä 42\,50 + tilausmaksu 1\,50 (https://www.lippu.fi/event/jari-sillanpaeae-ihmisiae-suviyoessae-nilsiaen-louhosareena-15418915/) \n  \nVäliaikatarjoilut järjestää Break Sokos Hotel Tahko.\n\nRyhmille (väh 10 hlö) on mahdollista tilata väliaikatarjoilut ennakkoon puhelimitse /tel +358 (0)10 762 9500 (puhelun hinta 0.0828 €/puhelu + 0.1199 €/min) tai sähköpostilla sales.peeassa@sok.fi.
URL:https://www.louhosareena.fi/event/ihmisia-suviyossa-jari-sillanpaa/
LOCATION:Nilsiän Louhosareena\, Pajujärventie 90\, Nilsiä\, 73320\, Suomi
ATTACH;FMTTYPE=image/jpeg:https://www.louhosareena.fi/wp-content/uploads/2022/06/20210821_210216.jpg
ORGANIZER;CN="Bridgehead Productions Ltd Oy/Miia Valenko":MAILTO:info@jarisillanpaa.com
END:VEVENT
END:VCALENDAR