BEGIN:VCALENDAR
VERSION:2.0
PRODID:-//Nilsiän Louhosareena - ECPv6.15.16//NONSGML v1.0//EN
CALSCALE:GREGORIAN
METHOD:PUBLISH
X-WR-CALNAME:Nilsiän Louhosareena
X-ORIGINAL-URL:https://www.louhosareena.fi
X-WR-CALDESC:Tapahtumat Nilsiän Louhosareena
REFRESH-INTERVAL;VALUE=DURATION:PT1H
X-Robots-Tag:noindex
X-PUBLISHED-TTL:PT1H
BEGIN:VTIMEZONE
TZID:Europe/Helsinki
BEGIN:DAYLIGHT
TZOFFSETFROM:+0200
TZOFFSETTO:+0300
TZNAME:EEST
DTSTART:20210328T010000
END:DAYLIGHT
BEGIN:STANDARD
TZOFFSETFROM:+0300
TZOFFSETTO:+0200
TZNAME:EET
DTSTART:20211031T010000
END:STANDARD
BEGIN:DAYLIGHT
TZOFFSETFROM:+0200
TZOFFSETTO:+0300
TZNAME:EEST
DTSTART:20220327T010000
END:DAYLIGHT
BEGIN:STANDARD
TZOFFSETFROM:+0300
TZOFFSETTO:+0200
TZNAME:EET
DTSTART:20221030T010000
END:STANDARD
BEGIN:DAYLIGHT
TZOFFSETFROM:+0200
TZOFFSETTO:+0300
TZNAME:EEST
DTSTART:20230326T010000
END:DAYLIGHT
BEGIN:STANDARD
TZOFFSETFROM:+0300
TZOFFSETTO:+0200
TZNAME:EET
DTSTART:20231029T010000
END:STANDARD
END:VTIMEZONE
BEGIN:VEVENT
DTSTART;TZID=Europe/Helsinki:20220701T190000
DTEND;TZID=Europe/Helsinki:20220701T213000
DTSTAMP:20260421T034853
CREATED:20220110T120716Z
LAST-MODIFIED:20220701T072315Z
UID:910-1656702000-1656711000@www.louhosareena.fi
SUMMARY:UIT - TUKKIJOELLA
DESCRIPTION:TUKKIJOELLA \nUIT-twistillä maustettu Teuvo Pakkalen ikiklassikko. \nLouhosareenalla nähdään Suomen suosituin kesäteatterinäytelmä Tukkijoella. Edelliskesän Kauniin Veeran tapaan näytelmä sisältää alkuperäismusiikin lisäksi tuoreempia hittejä 50-luvulta nykypäivään.\nPäärooleissa loistavat mm. Kai “Kuju” Hyttinen\, Jon-Jon Geitel\, Antti Niskanen ja Marja-Liisa Kuosmanen. \nEsityksen ohjaa Mikko Rantaniva ja sen on dramatisoinut ja musiikin 6-henkiselle live-orkesterille sovittanut Timo Kärkkäinen. \nNäytäntökausi alkaa ennen juhannusta Nilsiän Louhosareenalla 21.6. ja päättyy 9.7. \nLiput myynnissä: Ticketmaster\nRyhmämyynti: liput@uit.f  tai  puh. 09 756 8070\nLippuja saa myös portilta\n\nVäliaikatarjoilut järjestää Break Sokos Hotel Tahko.\n\nRyhmille (väh 10 hlö) on mahdollista tilata väliaikatarjoilut ennakkoon puhelimitse /tel +358 (0)10 762 9500 (puhelun hinta 0.0828 €/puhelu + 0.1199 €/min) tai sähköpostilla sales.peeassa@sok.fi.
URL:https://www.louhosareena.fi/event/uit-tukkijoella-5/
LOCATION:Nilsiän Louhosareena\, Pajujärventie 90\, Nilsiä\, 73320\, Suomi
CATEGORIES:Teatteri
ATTACH;FMTTYPE=image/jpeg:https://www.louhosareena.fi/wp-content/uploads/2022/01/2021_12-Tukkijoella-bannerit-sivustolle-1920x350-1.jpg
ORGANIZER;CN="UIT - Uusi iloinen teatteri":MAILTO:teatteri@uit.fi
END:VEVENT
END:VCALENDAR