BEGIN:VCALENDAR
VERSION:2.0
PRODID:-//Nilsiän Louhosareena - ECPv6.15.16//NONSGML v1.0//EN
CALSCALE:GREGORIAN
METHOD:PUBLISH
X-ORIGINAL-URL:https://www.louhosareena.fi
X-WR-CALDESC:Tapahtumat Nilsiän Louhosareena
REFRESH-INTERVAL;VALUE=DURATION:PT1H
X-Robots-Tag:noindex
X-PUBLISHED-TTL:PT1H
BEGIN:VTIMEZONE
TZID:Europe/Helsinki
BEGIN:DAYLIGHT
TZOFFSETFROM:+0200
TZOFFSETTO:+0300
TZNAME:EEST
DTSTART:20200329T010000
END:DAYLIGHT
BEGIN:STANDARD
TZOFFSETFROM:+0300
TZOFFSETTO:+0200
TZNAME:EET
DTSTART:20201025T010000
END:STANDARD
BEGIN:DAYLIGHT
TZOFFSETFROM:+0200
TZOFFSETTO:+0300
TZNAME:EEST
DTSTART:20210328T010000
END:DAYLIGHT
BEGIN:STANDARD
TZOFFSETFROM:+0300
TZOFFSETTO:+0200
TZNAME:EET
DTSTART:20211031T010000
END:STANDARD
BEGIN:DAYLIGHT
TZOFFSETFROM:+0200
TZOFFSETTO:+0300
TZNAME:EEST
DTSTART:20220327T010000
END:DAYLIGHT
BEGIN:STANDARD
TZOFFSETFROM:+0300
TZOFFSETTO:+0200
TZNAME:EET
DTSTART:20221030T010000
END:STANDARD
END:VTIMEZONE
BEGIN:VEVENT
DTSTART;TZID=Europe/Helsinki:20210821T190000
DTEND;TZID=Europe/Helsinki:20210821T210000
DTSTAMP:20260421T201812
CREATED:20210719T121848Z
LAST-MODIFIED:20210818T180236Z
UID:841-1629572400-1629579600@www.louhosareena.fi
SUMMARY:JARI SILLANPÄÄ - ILTA LOUHOSAREENALLA
DESCRIPTION:Jari Sillanpää saapuu Nilsiän Louhosareenalle konsertoimaan tunnelmallisella Ilta Louhosareenalla -teemalla. Hän ihastui paikkaan pari vuotta sitten konsertissaan ja kertoi jo silloin palaavansa uudemman kerran. \nKonsertin kesto on väliaikoineen n. 2 tuntia \nLouhosareenan portti avataan 2 tuntia ennen esitystä. Samalla avautuu myös lipunmyynti! \nEnnen konserttia\, väliajalla sekä jälkeen on mahdollista ostaa Sokos Hotel Tahkon tarjoamia kylmiä/kuumia juomia sekä suolaista ja makeaa purtavaa. A-oikeudet. \nLiput myynnissä : https://www.ticketmaster.fi/event/jari-sillanpaa-ilta-louhosareenalla-lippuja/297915 \nsekä Louhosareenan portilta.
URL:https://www.louhosareena.fi/event/jari-sillanpaa-ilta-louhosareenalla/
LOCATION:Nilsiän Louhosareena\, Pajujärventie 90\, Nilsiä\, 73320\, Suomi
ATTACH;FMTTYPE=image/jpeg:https://www.louhosareena.fi/wp-content/uploads/2021/07/Siltsu_1920x1080-KORJATTU-TEKSTI.jpg
ORGANIZER;CN="Bridgehead Productions Ltd Oy/Miia Valenko":MAILTO:info@jarisillanpaa.com
END:VEVENT
END:VCALENDAR