BEGIN:VCALENDAR
VERSION:2.0
PRODID:-//Nilsiän Louhosareena - ECPv6.15.16//NONSGML v1.0//EN
CALSCALE:GREGORIAN
METHOD:PUBLISH
X-WR-CALNAME:Nilsiän Louhosareena
X-ORIGINAL-URL:https://www.louhosareena.fi
X-WR-CALDESC:Tapahtumat Nilsiän Louhosareena
REFRESH-INTERVAL;VALUE=DURATION:PT1H
X-Robots-Tag:noindex
X-PUBLISHED-TTL:PT1H
BEGIN:VTIMEZONE
TZID:Europe/Helsinki
BEGIN:DAYLIGHT
TZOFFSETFROM:+0200
TZOFFSETTO:+0300
TZNAME:EEST
DTSTART:20200329T010000
END:DAYLIGHT
BEGIN:STANDARD
TZOFFSETFROM:+0300
TZOFFSETTO:+0200
TZNAME:EET
DTSTART:20201025T010000
END:STANDARD
BEGIN:DAYLIGHT
TZOFFSETFROM:+0200
TZOFFSETTO:+0300
TZNAME:EEST
DTSTART:20210328T010000
END:DAYLIGHT
BEGIN:STANDARD
TZOFFSETFROM:+0300
TZOFFSETTO:+0200
TZNAME:EET
DTSTART:20211031T010000
END:STANDARD
BEGIN:DAYLIGHT
TZOFFSETFROM:+0200
TZOFFSETTO:+0300
TZNAME:EEST
DTSTART:20220327T010000
END:DAYLIGHT
BEGIN:STANDARD
TZOFFSETFROM:+0300
TZOFFSETTO:+0200
TZNAME:EET
DTSTART:20221030T010000
END:STANDARD
END:VTIMEZONE
BEGIN:VEVENT
DTSTART;TZID=Europe/Helsinki:20210806T180000
DTEND;TZID=Europe/Helsinki:20210806T193000
DTSTAMP:20260421T201544
CREATED:20191216T131938Z
LAST-MODIFIED:20210726T115449Z
UID:486-1628272800-1628278200@www.louhosareena.fi
SUMMARY:UIT - Kupla vai Uitti
DESCRIPTION:  \n\nKUPLA VAI UITTI \nUIT:n perinteinen revyy nyt myös Louhosareenalla Nilsiässä! \nOhjaaja: Sari Siikander \nKoreografi: Mikko Ahti \nLouhosareenalla raikaa ensi kesänä nauru ja svengaava musiikki\, kun UIT:n upeat näyttelijät\, tanssijat ja rytmiryhmä tarjoavat nautinnollisen revyyn kesän kunniaksi. \nMinun kupla\, sinun kupla – kenen kupla on paras kupla? Kuka poksauttaa kuplansa kovimmin? Uitin kuplassa tarjoillaan poreilevaa huumoria – hyppää mukaan riemukuplaamme! \nLavalla nähdään 2021 Kaisa Hela\, Anu Sinisalo\, Marika Tuhkala\, Sami Hintsanen\, Sami Hokkanen ja Santtu Karvonen sekä tanssijat Jutta Helenius\, Katri Mäkinen\, Emil Hallberg ja Jussi Väänänen. \nEsityksen kesto n. 1 h 25 min.\, ei väliaikaa. Ennen ja jälkeen esityksen on mahdollista nauttia Sokos Hotel Tahkon järjestämistä kuumista/kylmistä juomista sekä suolaisista/makeista syötävistä. \nEhkäpä haluaisit hankkia VIP-lipun? Vipparilla pääset ajamaan ylös mäen päälle VIP-parkkiin sekä 1\,5 h ennen esitystä pääset nauttimaan routisseur-kokin suunnittelemasta ruoka-annoksesta jälkiruokakahveineen. Tämän lisäksi pääset käymään ennen esitystä lavalla ja kurkkaamaan kulisseja lähempää. Tämä kaikki em. vain hintaan 65 euroa/hlö. \nOSTA LIPPUSI TUOLTA: : https://www.ticketmaster.fi/artist/kupla-vai-uitti-nilsia-lippuja/1020783 \n  \n 
URL:https://www.louhosareena.fi/event/uit-kupla-vai-uitti-3/
LOCATION:Nilsiän Louhosareena\, Pajujärventie 90\, Nilsiä\, 73320\, Suomi
CATEGORIES:Teatteri
ATTACH;FMTTYPE=image/jpeg:https://www.louhosareena.fi/wp-content/uploads/2021/07/2021_07-Kupla-UItti-Nilsia-1200x1200-1.jpg
ORGANIZER;CN="UIT - Uusi iloinen teatteri":MAILTO:teatteri@uit.fi
END:VEVENT
END:VCALENDAR